BEGIN:VCALENDAR
VERSION:2.0
PRODID:icalendar-ruby
CALSCALE:GREGORIAN
METHOD:PUBLISH
BEGIN:VEVENT
DTSTAMP:20260421T153924Z
UID:12-548973@saintmarkslutheran.com
DTSTART:20261011T143000Z
DTEND:20261011T153000Z
CLASS:PUBLIC
CREATED:20260421T101927
DESCRIPTION:Worship
LAST-MODIFIED:20260421T101927
LOCATION:
SUMMARY:Worship
URL;VALUE=URI:https://saintmarkslutheran.com/events/worship--12/2026-10-11
END:VEVENT
END:VCALENDAR
