BEGIN:VCALENDAR
VERSION:2.0
PRODID:icalendar-ruby
CALSCALE:GREGORIAN
METHOD:PUBLISH
BEGIN:VEVENT
DTSTAMP:20260421T172018Z
UID:12-549290@saintmarkslutheran.com
DTSTART:20261018T143000Z
DTEND:20261018T153000Z
CLASS:PUBLIC
CREATED:20260421T125830
DESCRIPTION:Worship
LAST-MODIFIED:20260421T125830
LOCATION:
SUMMARY:Worship
URL;VALUE=URI:https://saintmarkslutheran.com/events/worship--12/2026-10-18
END:VEVENT
END:VCALENDAR
