BEGIN:VCALENDAR
VERSION:2.0
PRODID:icalendar-ruby
CALSCALE:GREGORIAN
METHOD:PUBLISH
BEGIN:VEVENT
DTSTAMP:20260421T202011Z
UID:12-549608@saintmarkslutheran.com
DTSTART:20261101T153000Z
DTEND:20261101T163000Z
CLASS:PUBLIC
CREATED:20260421T153524
DESCRIPTION:Worship
LAST-MODIFIED:20260421T153524
LOCATION:
SUMMARY:Worship
URL;VALUE=URI:https://saintmarkslutheran.com/events/worship--12/2026-11-01
END:VEVENT
END:VCALENDAR
