BEGIN:VCALENDAR
VERSION:2.0
PRODID:icalendar-ruby
CALSCALE:GREGORIAN
METHOD:PUBLISH
BEGIN:VEVENT
DTSTAMP:20260422T082028Z
UID:11-550079@saintmarkslutheran.com
DTSTART:20261011T123000Z
DTEND:20261011T133000Z
CLASS:PUBLIC
CREATED:20260421T205141
DESCRIPTION:Worship
LAST-MODIFIED:20260421T205141
LOCATION:
SUMMARY:Worship
URL;VALUE=URI:https://saintmarkslutheran.com/events/worship/2026-10-11
END:VEVENT
END:VCALENDAR
